BEGIN:VCALENDAR
VERSION:2.0
PRODID:-//Wicks Park Bar &amp; Grille | Saugatuck, Michigan - ECPv6.15.17.1//NONSGML v1.0//EN
CALSCALE:GREGORIAN
METHOD:PUBLISH
X-ORIGINAL-URL:https://wickspark.com
X-WR-CALDESC:Events for Wicks Park Bar &amp; Grille | Saugatuck, Michigan
REFRESH-INTERVAL;VALUE=DURATION:PT1H
X-Robots-Tag:noindex
X-PUBLISHED-TTL:PT1H
BEGIN:VTIMEZONE
TZID:America/New_York
BEGIN:DAYLIGHT
TZOFFSETFROM:-0500
TZOFFSETTO:-0400
TZNAME:EDT
DTSTART:20160313T070000
END:DAYLIGHT
BEGIN:STANDARD
TZOFFSETFROM:-0400
TZOFFSETTO:-0500
TZNAME:EST
DTSTART:20161106T060000
END:STANDARD
BEGIN:DAYLIGHT
TZOFFSETFROM:-0500
TZOFFSETTO:-0400
TZNAME:EDT
DTSTART:20170312T070000
END:DAYLIGHT
BEGIN:STANDARD
TZOFFSETFROM:-0400
TZOFFSETTO:-0500
TZNAME:EST
DTSTART:20171105T060000
END:STANDARD
BEGIN:DAYLIGHT
TZOFFSETFROM:-0500
TZOFFSETTO:-0400
TZNAME:EDT
DTSTART:20180311T070000
END:DAYLIGHT
BEGIN:STANDARD
TZOFFSETFROM:-0400
TZOFFSETTO:-0500
TZNAME:EST
DTSTART:20181104T060000
END:STANDARD
END:VTIMEZONE
BEGIN:VEVENT
DTSTART;TZID=America/New_York:20170428T160000
DTEND;TZID=America/New_York:20170428T180000
DTSTAMP:20260420T075450
CREATED:20170413T063649Z
LAST-MODIFIED:20170413T064001Z
UID:784-1493395200-1493402400@wickspark.com
SUMMARY:Happy Hour
DESCRIPTION:$3.00 draft/bottle beers\, house wines\, well drinks!
URL:https://wickspark.com/live-music-events/happy-hour-4/
CATEGORIES:Happy Hour
END:VEVENT
BEGIN:VEVENT
DTSTART;TZID=America/New_York:20170421T160000
DTEND;TZID=America/New_York:20170421T180000
DTSTAMP:20260420T075450
CREATED:20170413T063619Z
LAST-MODIFIED:20170413T064001Z
UID:782-1492790400-1492797600@wickspark.com
SUMMARY:Happy Hour
DESCRIPTION:$3.00 draft/bottle beers\, house wines\, well drinks!
URL:https://wickspark.com/live-music-events/happy-hour-3/
CATEGORIES:Happy Hour
END:VEVENT
BEGIN:VEVENT
DTSTART;TZID=America/New_York:20170414T160000
DTEND;TZID=America/New_York:20170414T180000
DTSTAMP:20260420T075450
CREATED:20170413T063558Z
LAST-MODIFIED:20170413T064001Z
UID:780-1492185600-1492192800@wickspark.com
SUMMARY:Happy Hour
DESCRIPTION:$3.00 draft/bottle beers\, house wines\, well drinks!
URL:https://wickspark.com/live-music-events/happy-hour-2/
CATEGORIES:Happy Hour
END:VEVENT
BEGIN:VEVENT
DTSTART;TZID=America/New_York:20170127T160000
DTEND;TZID=America/New_York:20170127T180000
DTSTAMP:20260420T075450
CREATED:20170127T202147Z
LAST-MODIFIED:20170413T064026Z
UID:669-1485532800-1485540000@wickspark.com
SUMMARY:Happy Hour
DESCRIPTION:$3.00 draft/bottle beers\, house wines\, well drinks!
URL:https://wickspark.com/live-music-events/happy-hour/
LOCATION:Wicks Park Bar & Grille
CATEGORIES:Happy Hour
ATTACH;FMTTYPE=image/jpeg:https://wickspark.com/wp-content/uploads/2017/01/HAPPYHOUR.jpg
END:VEVENT
END:VCALENDAR